BEGIN:VCALENDAR
VERSION:2.0
PRODID:-//The Camp Events Ticketing - ECPv6.15.20//NONSGML v1.0//EN
CALSCALE:GREGORIAN
METHOD:PUBLISH
X-WR-CALNAME:The Camp Events Ticketing
X-ORIGINAL-URL:https://tickets.thecampevents.com
X-WR-CALDESC:Events for The Camp Events Ticketing
REFRESH-INTERVAL;VALUE=DURATION:PT1H
X-Robots-Tag:noindex
X-PUBLISHED-TTL:PT1H
BEGIN:VTIMEZONE
TZID:UTC
BEGIN:STANDARD
TZOFFSETFROM:+0000
TZOFFSETTO:+0000
TZNAME:UTC
DTSTART:20250101T000000
END:STANDARD
END:VTIMEZONE
BEGIN:VEVENT
DTSTART;TZID=UTC:20260524T163000
DTEND;TZID=UTC:20260524T180000
DTSTAMP:20260423T235921
CREATED:20251123T183709Z
LAST-MODIFIED:20260303T015948Z
UID:23245-1779640200-1779645600@tickets.thecampevents.com
SUMMARY:The Camp 2026: Extreme Charades with Josh McDermitt - SUN 4:30-6:00P
DESCRIPTION:Think you know charades? Think again. Josh McDermitt (Eugene on TWD) is back to host the most chaotic\, fast-paced\, and laugh-out-loud event at The Camp… Extreme Charades! This is a high-energy\, very active experience where you’ll be up\, moving\, acting\, guessing\, and competing right alongside Josh himself. Nothing about this game is calm… and that’s exactly the point. \nWhy this event exists: During downtime on the set of The Walking Dead\, the cast often played their own wild\, over-the-top version of charades to blow off steam and keep the energy high between scenes. Josh loved it so much that he hand-created this event for The Camp\, bringing that same behind-the-scenes fun directly to the fans. \nExpect wild prompts\, big physical moments\, and Josh diving headfirst into the chaos with you. This event is purposely kept small so everyone gets a chance to jump in and play. \nBring your energy. Bring your A-game. Bring your best acting skills… or your worst.Whatever you bring\, Josh will match it.
URL:https://tickets.thecampevents.com/event/charades-sun-26/
LOCATION:The Crowne Plaza Convention Center – Peachtree City\, GA\, 201 Aberdeen Pkwy\, Peachtree City\, GA\, 30269\, United States
CATEGORIES:The Camp FANmily Reunion 2026
ORGANIZER;CN="The Camp Events":MAILTO:contact@thecampevents.com
END:VEVENT
BEGIN:VEVENT
DTSTART;TZID=UTC:20260524T180000
DTEND;TZID=UTC:20260524T190000
DTSTAMP:20260423T235921
CREATED:20260418T195427Z
LAST-MODIFIED:20260418T195427Z
UID:26861-1779645600-1779649200@tickets.thecampevents.com
SUMMARY:The Camp 2026: Jukebox Trivia with Chloe Van Landschoot - SUN 6-7pm
DESCRIPTION:Step up to the jukebox… but this time\, it’s playing for points. \nInspired by the iconic jukebox from FROM\, this interactive trivia experience blends the eerie charm of the show with the universal language of music. Whether you’re a die-hard FROM fan or just someone who knows their way around a great song\, this event is designed for everyone to jump in and compete. \nJoin Chloe Van Landschoot for a high-energy\, music-driven trivia game where songs replace questions\, and your knowledge of artists\, lyrics\, and iconic hits will determine who comes out on top. Expect a mix of genres\, decades\, and surprise tracks that keep you on your toes all night long. \nGuests will be grouped into teams to compete in multiple rounds of trivia. Between rounds\, Chloe will share stories\, interact with guests\, and keep the atmosphere fun\, casual\, and just a little unpredictable… just like the jukebox itself. \nWhat’s included: \n\nEntry into a live\, hosted trivia experience with Chloe Van Landschoot\nTeam-based music trivia gameplay with multiple rounds\nOpportunities to win exclusive prizes\nA fun\, inclusive event perfect for both FROM fans and music lovers alike\n\nNo deep FROM knowledge required… just bring your ears\, your instincts\, and maybe that one friend who somehow knows every song ever made.
URL:https://tickets.thecampevents.com/event/jukebox/
LOCATION:The Crowne Plaza Convention Center – Peachtree City\, GA\, 201 Aberdeen Pkwy\, Peachtree City\, GA\, 30269\, United States
CATEGORIES:The Camp FANmily Reunion 2026
ORGANIZER;CN="The Camp Events":MAILTO:contact@thecampevents.com
END:VEVENT
END:VCALENDAR