BEGIN:VCALENDAR
VERSION:2.0
PRODID:-//The Camp Events Ticketing - ECPv6.15.20//NONSGML v1.0//EN
CALSCALE:GREGORIAN
METHOD:PUBLISH
X-WR-CALNAME:The Camp Events Ticketing
X-ORIGINAL-URL:https://tickets.thecampevents.com
X-WR-CALDESC:Events for The Camp Events Ticketing
REFRESH-INTERVAL;VALUE=DURATION:PT1H
X-Robots-Tag:noindex
X-PUBLISHED-TTL:PT1H
BEGIN:VTIMEZONE
TZID:UTC
BEGIN:STANDARD
TZOFFSETFROM:+0000
TZOFFSETTO:+0000
TZNAME:UTC
DTSTART:20250101T000000
END:STANDARD
END:VTIMEZONE
BEGIN:VEVENT
DTSTART;TZID=UTC:20260523T100000
DTEND;TZID=UTC:20260523T170000
DTSTAMP:20260424T025038
CREATED:20260329T030409Z
LAST-MODIFIED:20260423T004611Z
UID:25524-1779530400-1779555600@tickets.thecampevents.com
SUMMARY:The Camp 2026: Saturday Photo Ops
DESCRIPTION:CLICK HERE FOR SUNDAY PHOTO OPS \nCapture the moment and take home a piece of The Camp with our official Photo Ops at The Camp 2026! \nStep into the spotlight with your favorite guests and snap a professional photo you’ll cherish forever. Each photo op includes a high-quality\, printed 8×10 – perfect for framing\, collecting autographs\, or showing off your Camp experience. \nPhoto ops are quick\, exciting\, and designed to give every fan their moment. Whether it’s your first time meeting a guest or adding to your collection\, our team ensures a smooth and memorable experience from start to finish. \nWant to take your photo everywhere you go? Digital downloads are will be available for purchase on-site after your session. \nDon’t miss your chance to make it official… this is one Camp memory you’ll definitely want to keep. \nCapacity: Solo Photo ops may have 2 adults and 2 children under 12\, Duo/Triple/Group Ops may have up to a total of 4 people in them. \nNOTE: Select “at the RV” photo ops feature an outdoor photo op with the real RV from season 1 and 2 of The Walking Dead. This isnt a replica\, this is the real thing\, thanks to Y’allywood Tours. These photo ops are subject to weather. If it is raining we may move the photo op indoors at the standard photo op backdrops. $10 will be refunded automatically if this were to happen. Full refunds will not be offered if these have to be moved indoors. Fingers Crossed the weather is great over The Camp weekend! \nThese will be located on the second floor near Will Call. \nClick Here to View Photo Op Schedule \n*Times Subject to Change\, delays are possible.*
URL:https://tickets.thecampevents.com/event/sat-photo-ops/
LOCATION:The Crowne Plaza Convention Center – Peachtree City\, GA\, 201 Aberdeen Pkwy\, Peachtree City\, GA\, 30269\, United States
CATEGORIES:The Camp FANmily Reunion 2026
ORGANIZER;CN="The Camp Events":MAILTO:contact@thecampevents.com
END:VEVENT
BEGIN:VEVENT
DTSTART;TZID=UTC:20260523T100000
DTEND;TZID=UTC:20260523T110000
DTSTAMP:20260424T025038
CREATED:20260322T213525Z
LAST-MODIFIED:20260322T213525Z
UID:25256-1779530400-1779534000@tickets.thecampevents.com
SUMMARY:The Camp 2026: SFX Makeup Demo with Gino Crognale
DESCRIPTION:Step behind the scenes of the apocalypse and witness the art of transformation like never before with SFX Makeup Demo with Gino Crognale. \nKnown for his incredible work bringing the undead to life on The Walking Dead\, Gino Crognale invites you into the world of special effects makeup for an up-close\, step-by-step demonstration of how a human becomes a walker. \nFrom the first brush stroke to the final gruesome detail\, you’ll watch as Gino builds a zombie transformation in real time – layering prosthetics\, creating realistic wounds\, and adding the signature textures that make each walker feel hauntingly real. Along the way\, he’ll share insider techniques\, behind-the-scenes stories from set\, and the creative decisions that go into crafting some of the show’s most unforgettable looks. \nWhether you’re an aspiring artist\, a die-hard fan\, or just curious how Hollywood magic is made\, this is your chance to see the process unfold right in front of you. \nBy the end\, you won’t just see a zombie… you’ll understand exactly how it was made.
URL:https://tickets.thecampevents.com/event/sfx-makeup/
LOCATION:The Crowne Plaza Convention Center – Peachtree City\, GA\, 201 Aberdeen Pkwy\, Peachtree City\, GA\, 30269\, United States
CATEGORIES:The Camp FANmily Reunion 2026
ORGANIZER;CN="The Camp Events":MAILTO:contact@thecampevents.com
END:VEVENT
BEGIN:VEVENT
DTSTART;TZID=UTC:20260523T090000
DTEND;TZID=UTC:20260523T100000
DTSTAMP:20260424T025038
CREATED:20260208T211717Z
LAST-MODIFIED:20260316T000019Z
UID:24209-1779526800-1779530400@tickets.thecampevents.com
SUMMARY:The Camp 2026: Waking Up with Jesus - SAT 9-10am
DESCRIPTION:Start your morning at The Camp with an unforgettable\, up-close experience at Waking Up with Jesus\, Breakfast with Tom Payne. \nJoin Tom Payne\, who portrayed Jesus on The Walking Dead\, for a relaxed\, sit-down breakfast on site at two01 the restaurant at the crowne plaza\, where you’ll share a table with Tom and enjoy genuine conversation over a meal. \nThis intimate dining experience is designed for true fans who want a personal\, unhurried moment with one of the series’ most beloved characters. From stories about his time on set to the journey of bringing Jesus to life on screen\, the morning is all about connection\, laughter\, and making memories in a warm\, casual setting. \nSeating is extremely limited.Pull up a chair\, share breakfast\, and start your day at The Camp with Tom Payne.
URL:https://tickets.thecampevents.com/event/waking-up-with-jesus/
LOCATION:The Crowne Plaza Convention Center – Peachtree City\, GA\, 201 Aberdeen Pkwy\, Peachtree City\, GA\, 30269\, United States
CATEGORIES:The Camp FANmily Reunion 2026
ORGANIZER;CN="The Camp Events":MAILTO:contact@thecampevents.com
END:VEVENT
BEGIN:VEVENT
DTSTART;TZID=UTC:20260522T210000
DTEND;TZID=UTC:20260523T235900
DTSTAMP:20260424T025038
CREATED:20260302T011718Z
LAST-MODIFIED:20260302T011718Z
UID:24701-1779483600-1779580740@tickets.thecampevents.com
SUMMARY:The Camp 2026 After Parties
DESCRIPTION:When the sun goes down\, The Camp comes alive. Come to both of our signature after-hours parties — immersive\, high-energy celebrations where the fan family gathers to unwind\, connect\, and keep the weekend alive. \nFriday Night: Pajombie Party 9p-midnightKick off the weekend in ultimate Camp fashion at our new fan-favorite Pajombie Party — where cozy meets creepy. Throw on your favorite pajamas\, zombie gear\, or a mix of both for a night of music\, dancing\, drinks\, and unforgettable photo moments. Whether you’re shambling across the dance floor or lounging with fellow survivors\, this laid-back kickoff sets the tone for an unforgettable weekend. \nSaturday Night: The Commonwealth Masquerade 9p-midnightStep into elegance and intrigue at The Commonwealth Masquerade. Inspired by the opulence and mystery of the Commonwealth\, this elevated evening invites guests to don masks\, formalwear\, or dystopian high society attire. Expect dramatic ambiance\, music\, and a refined yet electric atmosphere as The Camp transforms into a world of power\, secrets\, and spectacle. \nTwo nights. Two completely different vibes. One unforgettable experience — included with iVIP\, but General Admission can purchase below!
URL:https://tickets.thecampevents.com/event/parties/
LOCATION:The Crowne Plaza Convention Center – Peachtree City\, GA\, 201 Aberdeen Pkwy\, Peachtree City\, GA\, 30269\, United States
CATEGORIES:The Camp FANmily Reunion 2026
ORGANIZER;CN="The Camp Events":MAILTO:contact@thecampevents.com
END:VEVENT
BEGIN:VEVENT
DTSTART;TZID=UTC:20260522T210000
DTEND;TZID=UTC:20260522T220000
DTSTAMP:20260424T025038
CREATED:20260228T194431Z
LAST-MODIFIED:20260316T000030Z
UID:24614-1779483600-1779487200@tickets.thecampevents.com
SUMMARY:The Camp 2026: Dirty Bingo with Michael Traynor - FRI 9-10p
DESCRIPTION:Things are about to get a little wicked — and a whole lot hilarious. Join Michael Traynor (Nicholas on The Walking Dead) for a rowdy round of Dirty Bingo\, where the numbers are unpredictable\, the prizes are outrageous\, and the laughs come fast and loud. This isn’t your grandma’s bingo night — expect cheeky humor\, playful innuendo\, and plenty of unexpected moments as Michael calls the game with his signature wit and mischievous charm. \nGather your friends\, grab a drink\, and get ready to shout “BINGO!” in a room full of fans who aren’t afraid to laugh at the naughty side of things. Whether you win a prize or just come for the outrageous fun\, Dirty Bingo promises a wildly entertaining experience you won’t forget. \n18+ recommended. Limited seating — this one will fill up fast.
URL:https://tickets.thecampevents.com/event/dirty-bingo-fri/
LOCATION:The Crowne Plaza Convention Center – Peachtree City\, GA\, 201 Aberdeen Pkwy\, Peachtree City\, GA\, 30269\, United States
CATEGORIES:The Camp FANmily Reunion 2026
ORGANIZER;CN="The Camp Events":MAILTO:contact@thecampevents.com
END:VEVENT
BEGIN:VEVENT
DTSTART;TZID=UTC:20260522T200000
DTEND;TZID=UTC:20260522T210000
DTSTAMP:20260424T025038
CREATED:20260130T015429Z
LAST-MODIFIED:20260303T020327Z
UID:23846-1779480000-1779483600@tickets.thecampevents.com
SUMMARY:The Camp 2026: TWD Trivia with Cooper Andrews - FRI 8:00-9:00p
DESCRIPTION:Survivors\, this one’s for you. The Walking Dead Trivia with Cooper Andrews puts your knowledge of the series to the ultimate test—hosted by someone who lived it. Join Cooper Andrews for an interactive trivia experience packed with questions spanning iconic episodes\, unforgettable characters\, deep-cut moments\, and lore only true fans will recognize. \nCooper brings the energy\, humor\, and behind-the-scenes insight as he reacts to answers\, shares stories\, and keeps things moving with his signature personality. Whether you’re a casual watcher or someone who knows exactly how many days into the outbreak everything went sideways\, this event is about fun\, fandom\, and friendly competition. \nCome ready to play\, laugh\, and prove you’ve got what it takes to survive The Walking Dead trivia—Camp style.
URL:https://tickets.thecampevents.com/event/trivia/
LOCATION:The Crowne Plaza Convention Center – Peachtree City\, GA\, 201 Aberdeen Pkwy\, Peachtree City\, GA\, 30269\, United States
CATEGORIES:The Camp FANmily Reunion 2026
ORGANIZER;CN="The Camp Events":MAILTO:contact@thecampevents.com
END:VEVENT
BEGIN:VEVENT
DTSTART;TZID=UTC:20260522T190000
DTEND;TZID=UTC:20260522T200000
DTSTAMP:20260424T025038
CREATED:20260325T212521Z
LAST-MODIFIED:20260327T162123Z
UID:25383-1779476400-1779480000@tickets.thecampevents.com
SUMMARY:The Camp 2026: Screwdrivers at the RV with Laurie Holden - FRI 7-8p
DESCRIPTION:NOTE: This event is on Friday May 22\, 2026. \nStep into an iconic piece of The Walking Dead history with Laurie Holden at Screwdrivers at the RV\, a laid-back\, photo-worthy hangout you won’t forget. \nGather around the legendary RV that helped shape the early days of the apocalypse and enjoy a refreshing screwdriver alongside fellow fans. Laurie will join the group for stories\, laughs\, and plenty of memorable moments as you take in one of the show’s most recognizable settings. \nYou’ll also get a group photo with Laurie in front of the actual RV from The Walking Dead – not a replica\, the real thing! This event gives you one of the most fun and authentic keepsake from your time at The Camp! \nIt’s the perfect mix of casual cocktails\, great company\, and a chance to stand alongside where some of your favorite moments came to life. \nSpace is limited\, don’t miss your chance to be part of this unforgettable scene.
URL:https://tickets.thecampevents.com/event/screwdrivers/
LOCATION:The Crowne Plaza Convention Center – Peachtree City\, GA\, 201 Aberdeen Pkwy\, Peachtree City\, GA\, 30269\, United States
CATEGORIES:The Camp FANmily Reunion 2026
ORGANIZER;CN="The Camp Events":MAILTO:contact@thecampevents.com
END:VEVENT
BEGIN:VEVENT
DTSTART;TZID=UTC:20260522T173000
DTEND;TZID=UTC:20260522T190000
DTSTAMP:20260424T025038
CREATED:20260308T000220Z
LAST-MODIFIED:20260331T153806Z
UID:24833-1779471000-1779476400@tickets.thecampevents.com
SUMMARY:The Camp 2026: Beer Pong
DESCRIPTION:Get ready for one of the most laid-back and hilarious hangouts at The Camp! Join Cooper Andrews (Jerry)\, Seth Gilliam (Father Gabriel)\, Nadine Marissa (Nabila)\, Michael Traynor (Nicholas)\, Callan McAuliffe (Alden) and Alanna Masterson (Tara) for an unforgettable round of Beer Pong with fans. \nThis intimate event puts you right in the action as teams rotate in to play a few friendly rounds with your designated actor. Expect plenty of laughs\, playful trash talk\, and the kind of unscripted moments that only happen when the cast gets competitive. Whether you’re sinking shots like a pro or just hoping for beginner’s luck\, it’s all about having fun and sharing a drink with some of your favorite survivors. \nThis is a BYOB event\, drinks not included\, so bring your beverage of choice and get ready to step up to the table. Cups\, tables\, and all the essentials will be provided\, and fans will rotate through the tables to make sure everyone gets a chance to play and hang out. Make sure you slam dunk your pong ball and take a group photo with your actor before the end of the event! \nSpots are limited\, and this one will fill fast. Bring your best aim\, your favorite drink\, and get ready for a night of games\, laughs\, and unforgettable moments with Cooper\, Seth\, Michael\, Nadine and Alanna. 🍻
URL:https://tickets.thecampevents.com/event/pong/
LOCATION:The Crowne Plaza Convention Center – Peachtree City\, GA\, 201 Aberdeen Pkwy\, Peachtree City\, GA\, 30269\, United States
CATEGORIES:The Camp FANmily Reunion 2026
ORGANIZER;CN="The Camp Events":MAILTO:contact@thecampevents.com
END:VEVENT
BEGIN:VEVENT
DTSTART;TZID=UTC:20260522T163000
DTEND;TZID=UTC:20260522T173000
DTSTAMP:20260424T025038
CREATED:20260316T000738Z
LAST-MODIFIED:20260316T005334Z
UID:24976-1779467400-1779471000@tickets.thecampevents.com
SUMMARY:The Camp 2026: Painting with Palko Friday 4:30-5:30
DESCRIPTION:Step into a relaxed and creative atmosphere at Painting with Palko\, a special hands-on experience led by actor and artist Jeremy Palko (Andy from The Walking Dead). Known for his passion for painting off-screen\, Jeremy invites a small group of fans to join him for an interactive art session where creativity\, conversation\, and a little Camp spirit come together. \nDuring this guided class\, Jeremy will walk you through the process of creating your own painting while sharing stories\, tips\, and plenty of laughs along the way. Whether you’re an experienced artist or someone who hasn’t picked up a paintbrush in years\, this event is all about relaxing\, having fun\, and trying something new. \nAll supplies will be provided\, and by the end of the session you’ll leave with your own finished artwork—plus a memorable experience painting alongside Jeremy himself. Remember this event with a group photo. \nSpots are limited to keep the experience personal and interactive\, so grab your seat at the easel and get ready for an unforgettable creative session at The Camp. 🎨
URL:https://tickets.thecampevents.com/event/painting/
LOCATION:The Crowne Plaza Convention Center – Peachtree City\, GA\, 201 Aberdeen Pkwy\, Peachtree City\, GA\, 30269\, United States
CATEGORIES:The Camp FANmily Reunion 2026
ORGANIZER;CN="The Camp Events":MAILTO:contact@thecampevents.com
END:VEVENT
BEGIN:VEVENT
DTSTART;TZID=UTC:20260522T150000
DTEND;TZID=UTC:20260522T160000
DTSTAMP:20260424T025038
CREATED:20260409T004329Z
LAST-MODIFIED:20260409T151937Z
UID:26283-1779462000-1779465600@tickets.thecampevents.com
SUMMARY:The Camp 2026: The Governor’s Table: A Lunch in Senoia with Laurie Holden & David Morrissey - FRI 3-4
DESCRIPTION:Step into the world of The Walking Dead with an unforgettable lunch experience in Senoia – the real-life home of Woodbury – alongside Laurie Holden (Andrea) and David Morrissey (The Governor). \nSet in the very town where Woodbury came to life\, this intimate\, group lunch offers a rare chance to sit down with two of the series’ most iconic characters in an environment that feels straight out of the show. As you enjoy a relaxed\, catered meal\, Laurie and David will share behind-the-scenes stories from their time filming in Senoia\, reflect on the complex relationship between Andrea and The Governor\, and give insight into what it was like bringing Woodbury to life on screen. \nWith time for conversation\, questions\, and candid moments\, this experience goes far beyond a typical panel. It’s your chance to connect\, laugh\, and immerse yourself in one of the most memorable settings in The Walking Dead universe. \nTake a seat at The Governor’s table… just remember\, in Woodbury\, things aren’t always what they seem. \nFood included\, drinks can be purchased on site.
URL:https://tickets.thecampevents.com/event/senoia-lunch/
LOCATION:Senoia Beer Company\, 1 Main St\, Senoia\, GA\, 30276\, United States
CATEGORIES:The Camp FANmily Reunion 2026
ORGANIZER;CN="The Camp Events":MAILTO:contact@thecampevents.com
END:VEVENT
BEGIN:VEVENT
DTSTART;TZID=UTC:20260522T133000
DTEND;TZID=UTC:20260522T143000
DTSTAMP:20260424T025038
CREATED:20260207T155859Z
LAST-MODIFIED:20260303T020102Z
UID:24120-1779456600-1779460200@tickets.thecampevents.com
SUMMARY:The Camp Events Presents: The Governor’s Tour of Woodbury with David Morrissey - FRI 1:30-2:30
DESCRIPTION:Step inside one of the most unforgettable chapters of The Walking Dead with The Camp Events Presents: The Governor’s Tour of Woodbury with David Morrissey\, an exclusive\, one-hour guided experience through Senoia\, Georgia\, the real filming home of the legendary community of Woodbury. \nJoin David Morrissey\, who brought The Governor to life\, for an intimate walking tour through Senoia. As you visit iconic filming locations\, David will share behind-the-scenes stories\, personal anecdotes from set\, and answer fan questions along the way. \nThis once-in-a-lifetime experience also includes a truly unforgettable moment: a professional\, individual photo with David Morrissey\, captured with the original Woodbury filming backdrop behind you. \nThe tour is expertly guided by Anissa from Y’allywood Tours\, whose deep knowledge of the production and local history brings every stop to life. \n \nThe experience concludes with a tea reception\, giving guests a relaxed and memorable opportunity to continue the conversation and reflect on one of television’s most iconic storylines. Make sure to meet at the Gazebo in Senoia\, GA (1 Main St\, Senoia\, GA 30276)\, transportation is not included. It is recommended to arrive 15-20 minutes before the tour. \n🎟️ This event is extremely limited and will sell out quickly.For Walking Dead fans\, this is more than a tour… it’s a rare chance to walk Woodbury with the man who ruled it.
URL:https://tickets.thecampevents.com/event/woodbury-tour-two/
LOCATION:The Gazebo – Senoia\, GA\, 1 Main St\, Senoia\, GA\, 30276\, United States
CATEGORIES:The Camp FANmily Reunion 2026
ORGANIZER;CN="The Camp Events":MAILTO:contact@thecampevents.com
END:VEVENT
BEGIN:VEVENT
DTSTART;TZID=UTC:20260522T120000
DTEND;TZID=UTC:20260522T130000
DTSTAMP:20260424T025038
CREATED:20260201T031519Z
LAST-MODIFIED:20260303T020108Z
UID:23977-1779451200-1779454800@tickets.thecampevents.com
SUMMARY:The Camp Events Presents: The Governor’s Tour of Woodbury with David Morrissey - FRI 12:00-1:00
DESCRIPTION:Step inside one of the most unforgettable chapters of The Walking Dead with The Camp Events Presents: The Governor’s Tour of Woodbury with David Morrissey\, an exclusive\, one-hour guided experience through Senoia\, Georgia\, the real filming home of the legendary community of Woodbury. \nJoin David Morrissey\, who brought The Governor to life\, for an intimate walking tour through Senoia. As you visit iconic filming locations\, David will share behind-the-scenes stories\, personal anecdotes from set\, and answer fan questions along the way. \nThis once-in-a-lifetime experience also includes a truly unforgettable moment: a professional\, individual photo with David Morrissey\, captured with the original Woodbury filming backdrop behind you. \nThe tour is expertly guided by Anissa from Y’allywood Tours\, whose deep knowledge of the production and local history brings every stop to life. \n \nThe experience concludes with a tea reception\, giving guests a relaxed and memorable opportunity to continue the conversation and reflect on one of television’s most iconic storylines. Make sure to meet at the Gazebo in Senoia\, GA (1 Main St\, Senoia\, GA 30276)\, transportation is not included. It is recommended to arrive 15-20 minutes before the tour. \n🎟️ This event is extremely limited and will sell out quickly.For Walking Dead fans\, this is more than a tour… it’s a rare chance to walk Woodbury with the man who ruled it.
URL:https://tickets.thecampevents.com/event/woodbury-tour/
LOCATION:The Gazebo – Senoia\, GA\, 1 Main St\, Senoia\, GA\, 30276\, United States
CATEGORIES:The Camp FANmily Reunion 2026
ORGANIZER;CN="The Camp Events":MAILTO:contact@thecampevents.com
END:VEVENT
BEGIN:VEVENT
DTSTART;TZID=UTC:20260521T204500
DTEND;TZID=UTC:20260521T214500
DTSTAMP:20260424T025038
CREATED:20260409T234813Z
LAST-MODIFIED:20260409T234813Z
UID:26352-1779396300-1779399900@tickets.thecampevents.com
SUMMARY:The Camp 2026: An Evening of Stories and Fun with Greg Nicotero - THURS 8:45p
DESCRIPTION:Step into a night of unforgettable storytelling with legendary special effects artist\, director\, and executive producer Greg Nicotero. From his groundbreaking work on The Walking Dead to decades of iconic moments in film and television\, Greg has been behind some of the most memorable scenes in modern horror… and now\, he’s bringing those stories straight to you. \nHosted at Nic & Norman’s\, this intimate evening offers a rare chance to hear firsthand accounts from behind the scenes\, from creating jaw-dropping effects to working alongside some of the biggest names in the industry. Greg’s natural charisma and sense of humor make this more than just a Q&A\, it’s a relaxed\, engaging night filled with laughs\, surprises\, and stories you won’t hear anywhere else. \nGuests will enjoy a comfortable\, social atmosphere with shared appetizers and desserts for each table\, along with sodas and teas included. Alcoholic beverages will be available for purchase. \nWhether you’re a die-hard fan or just love great storytelling\, this is your chance to spend an evening with one of the creative forces who helped define a genre. \nEvent Details:📅 Thursday\, May 21st🕣 Guest Arrival: 8:45 PM📍 Nic & Norman’s – Senoia\, GA🚗 Transportation is not included \nCome for the stories\, stay for the experience—this is a night you won’t want to miss.
URL:https://tickets.thecampevents.com/event/evening-with-greg/
LOCATION:Nic and Norman’s\, 20 Main St\, Senoia\, GA\, 30276\, United States
CATEGORIES:The Camp FANmily Reunion 2026
ORGANIZER;CN="The Camp Events":MAILTO:contact@thecampevents.com
END:VEVENT
BEGIN:VEVENT
DTSTART;TZID=UTC:20260521T120000
DTEND;TZID=UTC:20260521T160000
DTSTAMP:20260424T025038
CREATED:20260327T235612Z
LAST-MODIFIED:20260330T152554Z
UID:25567-1779364800-1779379200@tickets.thecampevents.com
SUMMARY:The Camp 2026: The Touring Dead with Cooper Andrews and Seth Gilliam
DESCRIPTION:Step into the world of The Walking Dead like never before with The Touring Dead presented by The Camp Events and Y’allywood Tours\, a fully immersive four-hour bus tour that brings the series to life alongside Cooper Andrews (Jerry) and Seth Gilliam (Father Gabriel). \nThis isn’t just a sightseeing trip… it’s a deep dive into the universe of the show\, guided by Anissa of Y’allywood Tours (she knows all) and the very actors who helped build it. From the moment you depart the host hotel\, the Crowne Plaza Peachtree City\, you’ll be transported into the heart of Georgia’s most iconic filming locations\, traveling through Senoia\, Griffin\, and Newnan – towns that became the backbone of The Walking Dead across Seasons 2\, 3\, 4\, 5\, and beyond. \nAs you ride between locations\, Cooper and Seth will share behind-the-scenes stories you won’t hear anywhere else\, what it was like filming specific scenes\, unexpected moments on set\, how locations were transformed for the screen\, and personal memories from their time in the apocalypse. It’s an intimate\, story-driven experience that blends fandom with firsthand perspective. \nAlong the way\, you’ll step off the bus at a curated selection of unforgettable filming spots\, including Rosita’s Alley\, the infamous grenade location in Griffin\, Gabriel’s Commonwealth church\, the Reapers Compound\, and additional hidden gems that even longtime fans may not recognize at first glance. At each stop\, you’ll get context\, storytelling\, and time to explore the space… standing exactly where some of the show’s most intense and emotional moments unfolded. \nThroughout the tour\, there will be multiple opportunities for group photos with Cooper and Seth at select locations – giving you the chance to capture memories in the very places that defined the series. These are authentic\, in-the-moment photo opportunities designed to feel natural to the experience rather than staged or rushed. \nTransportation is fully included\, with comfortable round-trip service from the Crowne Plaza\, allowing you to sit back\, relax\, and stay immersed in the journey from start to finish. The pacing of the tour is designed to balance storytelling\, exploration\, and travel time\, making the most of every moment across the four-hour experience. \nWhether you’ve followed the show since the early days on Hershel’s farm or you’re drawn to the later storylines of the Commonwealth\, The Touring Dead offers a rare chance to connect with the world of The Walking Dead in a way that goes far beyond the screen. This is your opportunity to experience the locations\, hear the stories\, and relive the moments… right where they happened.
URL:https://tickets.thecampevents.com/event/tour/
LOCATION:The Crowne Plaza Convention Center – Peachtree City\, GA\, 201 Aberdeen Pkwy\, Peachtree City\, GA\, 30269\, United States
CATEGORIES:The Camp FANmily Reunion 2026
ORGANIZER;CN="The Camp Events":MAILTO:contact@thecampevents.com
END:VEVENT
END:VCALENDAR